BEGIN:VCALENDAR
METHOD:PUBLISH
VERSION:2.0
PRODID:-//Eventilla iCal Syndication//NONSGML Liana//EN
BEGIN:VEVENT
UID:qL7X5@eventilla.com
DTSTAMP:20260519T060000Z
DTSTART:20260519T060000Z
DTEND:20260519T073000Z
SUMMARY:Jäsenwebinaari: Miten kasvaa strategiseksi kumppaniksi?
DESCRIPTION:Strategisen kumppanin rooli tuo kokemusten mukaan helpotusta juuri niihin asioihin\, jotka kuormittavat viestinnän ammattilaisia tällä hetkellä eniten.\nTämä jäsenwebinaari jatkaa strategisen viestinnän -webinaarisarjaamme. Ensimmäinen osa "Viestijä strategisena kumppanina: luottamuksen ja osaamisen uusi taso" järjestettiin 31.3. Jäikö se välistä? Tutustu tallenteeseen jäsensivujen tallennekirjastossa! Tässä webinaarissa syvennymme yhä enemmän konkretiaan puhujavieraidemme Kati Kerosen ja Terhi Savikko-Talasrinteen johdolla.\nStrategisen kumppanin:\n\nneuvoa halutaan kuulla jo silloin\, kun päätöksiä tehdään\ntyö on selkeämpää ja eheämpää\nei tarvitse jatkuvasti perustella\, miksi viestintää tarvitaan.\n\nMoni ajattelee\, että strategiseen rooliin pääsemiseksi tarvitaan valtavasti osaamista tai jo valmiiksi todella vahva asema. Todellisuudessa rooli on mahdollinen jokaiselle. Sen mahdollistaa usein pieni\, mutta ratkaiseva suunnan muutos. Strateginen kumppani ei tee välttämättä suurempia tai raskaampia töitä. Hän tekee ne hieman eri tavalla.\nJos mietit juuri nyt\, miten voisit edetä strategisen kumppanin rooliin\, tämä webinaari on juuri sinulle.\nSaat realistisen kuvan strategisen kumppanin identiteetistä\, osaamisesta ja roolista ja ennen kaikkea siitä\, miten strategisen kumppanin rooliin kasvetaan käytännön työn kautta. Huomaat myös\, että suuri osa tarvittavasta osaamisesta on sinulla jo olemassa.\nOhjelma ja puhujat\nStrategiseksi kumppaniksi kasvamisen askelmerkit / Kati Keronen\, ValoriaKati on auttanut useita viestijöitä ja viestintätiimejä kohti strategista roolia. Tässä puheenvuorossa hän kertoo esimerkkien avulla\, mistä strategisessa kumppanuudessa on kysymys\, miten se vaikuttaa viestijän identiteettiin ja työnkuvaan ja millaista osaamista se vaatii. Lisäksi Kati avaa sitä\, mihin asioihin viestijä strategisena kumppanina vaikuttaa ja keiden kanssa hän tekee yhteistyötä.Kumppanimalli käytännössä / Terhi Savikko-Talasrinne\, Työllisyysrahasto. Työllisyysrahastossa kumppanimallilla on toimittu vuoden 2026 alusta. Terhi kertoo miten malli suunniteltiin ja otettiin käyttöön. Luvassa on käytännönläheinen kuvaus miten viestinnän ammattilaisten työ on muuttunut ja mitä muutoksia toimintatapoihin on tehty. Kumppanimalli on tuottanut useita onnistumisia ja hyviä tuloksia jo nyt\, niitä ja oppeja käydään myös puheenvuorossa läpi.\nMinipaneeli ja kyselytuntiProComin vetämän minipaneelin jälkeen on sinun vuorosi kysyä Katilta ja Terhiltä.\nAjankohta: ti 19.5. klo 9–10.30Paikka: Teams\n \nTervetuloa mukaan!\n \nWebinaari on avoin ja maksuton ProComin jäsenille.
LOCATION:Online
URL:http://tapahtumakalenteri.procom.fi/event/qL7X5
END:VEVENT
END:VCALENDAR
