BEGIN:VCALENDAR
METHOD:PUBLISH
VERSION:2.0
PRODID:-//Eventilla iCal Syndication//NONSGML Liana//EN
BEGIN:VEVENT
UID:l9OE9@eventilla.com
DTSTAMP:20260522T060000Z
DTSTART:20260522T060000Z
DTEND:20260522T090000Z
SUMMARY:Koulutus: Aktiivisena kriisin keskellä
DESCRIPTION:Mitä kriisin keskellä uskaltaa tehdä?\nTässä koulutuksessa menemme suoraan myrskyn silmään eli kriisin keskelle. Kriisejä on monenlaisia ja siksi ne vaativat erilaisia toimintatapoja. Ennakkoon harjoitellun poikkeustilanteen hoitaminen edellyttää toisenlaista toimintaa kuin mainekriisi\, joka on vyörynyt ylle täysin ennakoimatta. Organisaation toimintakyky on saattanut hetkellisesti lamaantua ja viestinnän tehtäväksi lankeaa vahinkojen minimointi.\nKoulutus antaa sinulle esimerkkejä erilaisista kriisitilanteista ja varmuutta toimia analyyttisesti epävarmuuden keskellä. Vieraana  on Apteekkariliiton viestintäjohtaja Pipsa Lotta Marjamäki.\n \nKOULUTUKSEN SISÄLTÖ\n\nKun osuu tuulettimeen\, miten toimitaan?\nHenkinen resilienssikyky\nToimiminen median kanssa kriisissä: toimittajayhteistyö\, haastattelutilanteet\n\n \nKENELLE\nKoulutus on suunnattu kaikille viestinnän ammattilaisille\, jotka haluavat vahvistaa kriisiviestinnän osaamistaan ja päivittää valmiuksiaan vastaamaan muuttunutta toimintaympäristöä. Osallistuja voi olla uransa alkuvaiheessa tai jo kokenut viestijä. Yhteistä osallistujien kesken on tarve kehittää ennakointikykyä\, jäsentää kriisejä viestinnän näkökulmasta ja toimia varmemmin epävarmoissa tilanteissa.\n \nHALUATKO SYVENTÄÄ OSAAMISTASI?\nTämän koulutuksen voi suorittaa osana Ennakoiva kriisiviestintä -koulutuskokonaisuutta\, johon sisältyy neljä (4) koulutusmoduulia\, oppimisalusta ja opiskelijakollegoiden tuki. Tutustu kattavaan koulutuskokonaisuuteen sivuiltamme tai kysy lisää ProComin toimistolta: procom@procom.fi tai puh. +358 44 720 3022.\n \nTietojen käsittely\nIlmoittautumalla mukaan hyväksyt sähköpostiosoitteesi lisäämisen uutiskirjeemme jakelulistalle. Saat ProComilta viestejä viestintäalaan\, koulutuksiin ja tapahtumiin liittyen. Voit koska tahansa pyytää tietojesi poistoa postituslistaltamme. Käsittelemme tietoja GDPR:n mukaisesti.
LOCATION:Online
URL:http://tapahtumakalenteri.procom.fi/koulutus-aktiivisena-kriisin-keskella
END:VEVENT
END:VCALENDAR
