BEGIN:VCALENDAR
METHOD:PUBLISH
VERSION:2.0
PRODID:-//Eventilla iCal Syndication//NONSGML Liana//EN
BEGIN:VEVENT
UID:Glw4L@eventilla.com
DTSTAMP:20260506T123000Z
DTSTART:20260506T123000Z
DTEND:20260506T140000Z
SUMMARY:Tekoälykkään viestinnän verkosto: Vierailu Sofigatelle\, teemana agenttinen tekoäly
DESCRIPTION:Tiedätkö\, mitä tarkoittaa agenttinen tekoäly ja miten se muuttaa työtämme?Keskiviikkona 6.5. kello 15.30 alkaen Tekoälykkään viestinnän verkosto vierailee bisnesteknologiayritys Sofigatella. Sofigaten AI-johtaja Juho Nevalainen kertoo\, miten organisaatiot siirtyvät yksittäisistä tekoälykokeiluista digitaalisen työvoiman hyödyntämiseen. Mitä viestinnän ammattilaisen ainakin pitää ymmärtää kaikesta tästä?\n \nOhjelma\n\nKiinnostavaa keskustelua ja tuoretta tietoa Sofigatelta\nVerkostoitumista ja kokemusten vaihtoa\nSofigaten The New Champion -lyhytelokuva popcornin kera\n\n \nVierailulle mahtuu mukaan 30 osallistujaa. Ilmoittauduthan 29.4. mennessä.\nTekoälykkään viestinnän verkoston tapahtumat ovat aiemmin täyttyneet kokonaan\, joten kannattaa ilmoittautua nopeasti mukaan ja varmistaa oma paikka.\n \nAika: keskiviikko 6.5. kello 15.30–17Paikka: Sofigate\, Porkkalankatu 1 (Lepakko)\, 00180 Helsinki\n \nLämpimästi tervetuloa!\n \nTilaisuus on avoin ja maksuton ProComin jäsenille.\n \nTietojen käsittely\nTarvittaessa toimitamme ilmoittautumistietosi vierailukohdeorganisaatiolle.
LOCATION:Sofigate\, Porkkalankatu 1 (Lepakko)\, 00180\, Helsinki\, Suomi
URL:http://tapahtumakalenteri.procom.fi/event/Glw4L
END:VEVENT
END:VCALENDAR
